BEGIN:VCALENDAR
VERSION:2.0
PRODID:-//One Sample Cultural Foundation - ECPv6.15.10//NONSGML v1.0//EN
CALSCALE:GREGORIAN
METHOD:PUBLISH
X-ORIGINAL-URL:https://osculturalfoundation.org
X-WR-CALDESC:Events for One Sample Cultural Foundation
REFRESH-INTERVAL;VALUE=DURATION:PT1H
X-Robots-Tag:noindex
X-PUBLISHED-TTL:PT1H
BEGIN:VTIMEZONE
TZID:America/Chicago
BEGIN:DAYLIGHT
TZOFFSETFROM:-0600
TZOFFSETTO:-0500
TZNAME:CDT
DTSTART:20230312T080000
END:DAYLIGHT
BEGIN:STANDARD
TZOFFSETFROM:-0500
TZOFFSETTO:-0600
TZNAME:CST
DTSTART:20231105T070000
END:STANDARD
BEGIN:DAYLIGHT
TZOFFSETFROM:-0600
TZOFFSETTO:-0500
TZNAME:CDT
DTSTART:20240310T080000
END:DAYLIGHT
BEGIN:STANDARD
TZOFFSETFROM:-0500
TZOFFSETTO:-0600
TZNAME:CST
DTSTART:20241103T070000
END:STANDARD
BEGIN:DAYLIGHT
TZOFFSETFROM:-0600
TZOFFSETTO:-0500
TZNAME:CDT
DTSTART:20250309T080000
END:DAYLIGHT
BEGIN:STANDARD
TZOFFSETFROM:-0500
TZOFFSETTO:-0600
TZNAME:CST
DTSTART:20251102T070000
END:STANDARD
BEGIN:DAYLIGHT
TZOFFSETFROM:-0600
TZOFFSETTO:-0500
TZNAME:CDT
DTSTART:20260308T080000
END:DAYLIGHT
BEGIN:STANDARD
TZOFFSETFROM:-0500
TZOFFSETTO:-0600
TZNAME:CST
DTSTART:20261101T070000
END:STANDARD
END:VTIMEZONE
BEGIN:VEVENT
DTSTART;TZID=America/Chicago:20251207T170000
DTEND;TZID=America/Chicago:20251207T190000
DTSTAMP:20260423T130328
CREATED:20251021T220233Z
LAST-MODIFIED:20251125T202423Z
UID:768-1765126800-1765134000@osculturalfoundation.org
SUMMARY:Cantos navideños 2025
DESCRIPTION:Experience the warmth and wonder of Christmas at Cantos Navideños 2025\, a concert that brings to life the traditions\, unity\, and joy of the season. Beloved singer Inés María Bravo will fill the night with her luminous voice\, offering cherished Venezuelan and Latin American carols that awaken childhood memories\, the glow of Nativity scenes\, and the embrace of family gatherings. Surrounded by outstanding musicians\, she will transport us into the spirit of December\, where music becomes a bridge to our deepest customs and emotions. \nEvery note carries the beauty of our shared traditions—children’s laughter\, the anticipation of gifts\, the sparkle of holiday nights\, and the love that unites us. With a repertoire rich in emblematic carols and vibrant choirs that invite everyone to join in\, this concert promises to fill hearts with joy and nostalgia. \nBe part of an unforgettable celebration of Christmas through music\, and immerse yourself in choirs overflowing with joy and emotion. \nGET YOUR CANTOS NAVIDEÑOS 2025 TICKETS HERE! \nKNOW MORE ABOUT OUR PROGRAMS
URL:https://osculturalfoundation.org/event/cantos-navidenos-2025/
LOCATION:Match\, 3400 Main Street\, Houston\, TX.\, 77002
CATEGORIES:Christmas Concert
ATTACH;FMTTYPE=image/jpeg:https://osculturalfoundation.org/wp-content/uploads/2025/10/Diseno-sin-titulo.jpg
END:VEVENT
BEGIN:VEVENT
DTSTART;TZID=America/Chicago:20241205T200000
DTEND;TZID=America/Chicago:20241205T213000
DTSTAMP:20260423T130328
CREATED:20240821T235944Z
LAST-MODIFIED:20241105T194253Z
UID:321-1733428800-1733434200@osculturalfoundation.org
SUMMARY:Christmas Concert
DESCRIPTION:Christmas Concert\nCantos Navideños concert explores the magic of Christmas music and celebrates Latin American diversity and family unity. With her traditional Christmas Concert\, singer Inés María Bravo will delight us with Venezuelan and Latin American Christmas carols that remind us of the December customs of our region. Christmas will be filled with the joy and melodious voice of Inés María\, who along with outstanding musicians will make us enjoy the extensive Hispanic Christmas musical tradition. It will also feature the incredible drawings of the prestigious cartoonist Rayma Suprani. \nWith musical arrangements that preserve the aesthetic beauty of the divine carols\, Cantos Navideños establishes an immediate connection with the Nativity scenes\, family hugs\, the excitement of children waiting for gifts\, the joy that is felt during the Christmas season\, and the love for music. \nThe repertoire will include emblematic songs from the traditional Venezuelan and Latin American repertoire such as Precioso Querube\, Cantares de Navidad and Adestes Fideles\, among others; and will feature choirs overflowing with joy and emotion from all those present. \nThe Christmas Concert presented by One Sample Cultural Foundation will be held on December 5\, 2024\, 8:00 PM\, at Match Theater. \nGET YOUR TICKETS HERE! \nLEARN MORE ABOUT OUR PROGRAMS  \n 
URL:https://osculturalfoundation.org/event/christmas-concert/
LOCATION:Match\, 3400 Main Street\, Houston\, TX.\, 77002
CATEGORIES:Christmas Concert
ATTACH;FMTTYPE=image/png:https://osculturalfoundation.org/wp-content/uploads/2024/08/Cantos-Navidenos.png
END:VEVENT
END:VCALENDAR