BEGIN:VCALENDAR
VERSION:2.0
PRODID:-//One Sample Cultural Foundation - ECPv6.15.10//NONSGML v1.0//EN
CALSCALE:GREGORIAN
METHOD:PUBLISH
X-WR-CALNAME:One Sample Cultural Foundation
X-ORIGINAL-URL:https://osculturalfoundation.org
X-WR-CALDESC:Events for One Sample Cultural Foundation
REFRESH-INTERVAL;VALUE=DURATION:PT1H
X-Robots-Tag:noindex
X-PUBLISHED-TTL:PT1H
BEGIN:VTIMEZONE
TZID:America/Chicago
BEGIN:DAYLIGHT
TZOFFSETFROM:-0600
TZOFFSETTO:-0500
TZNAME:CDT
DTSTART:20230312T080000
END:DAYLIGHT
BEGIN:STANDARD
TZOFFSETFROM:-0500
TZOFFSETTO:-0600
TZNAME:CST
DTSTART:20231105T070000
END:STANDARD
BEGIN:DAYLIGHT
TZOFFSETFROM:-0600
TZOFFSETTO:-0500
TZNAME:CDT
DTSTART:20240310T080000
END:DAYLIGHT
BEGIN:STANDARD
TZOFFSETFROM:-0500
TZOFFSETTO:-0600
TZNAME:CST
DTSTART:20241103T070000
END:STANDARD
BEGIN:DAYLIGHT
TZOFFSETFROM:-0600
TZOFFSETTO:-0500
TZNAME:CDT
DTSTART:20250309T080000
END:DAYLIGHT
BEGIN:STANDARD
TZOFFSETFROM:-0500
TZOFFSETTO:-0600
TZNAME:CST
DTSTART:20251102T070000
END:STANDARD
END:VTIMEZONE
BEGIN:VEVENT
DTSTART;TZID=America/Chicago:20241026T200000
DTEND;TZID=America/Chicago:20241026T213000
DTSTAMP:20260423T143428
CREATED:20241009T205818Z
LAST-MODIFIED:20241022T194817Z
UID:454-1729972800-1729978200@osculturalfoundation.org
SUMMARY:Solo Dos
DESCRIPTION:Inés María Bravo and Cruz Marín will perform Solo Dos \nConcert at Ovations Night Club\, Houston October 26\, 2024 \n\n\n\nSolo Dos is an intimate concert featuring artists Inés María Bravo and Cruz Marín\, who captivate the audience with the rich sonority of their instruments: voice and Venezuelan cuatro\, respectively. For 90 minutes\, the show unfolds a carefully selected Latin American repertoire\, united by the theme of love. \nIn this minimalist format\, both artists demonstrate the joy of making music\, achieving surprising harmonic and interpretative complexity in each piece. Solo Dos offers a musical experience that highlights the versatility and talent of Bravo and Marín\, inviting spectators on a sonic journey through Latin American culture. \nOvations Night Club    Date: 10/26/2024   Time: 8pm – 9:30pm   Address: 2536 Times Blvd B\, Houston\, TX 77005 \nGET YOUR GENERAL ADMISSION TICKETS HERE \nVIP TICKETS : SOLD OUT! \nDoor opens at 7.15 pm \nAbout the artists: Inés María Bravo is a renowned Venezuelan singer with a distinguished career in the music scene. Cruz Marín is a talented Venezuelan cuatro player and composer\, whose personal style of playing the instrument has led him to become the foremost exponent of the Venezuelan cuatro in Germany\, where he currently resides. \nThe virtuosity of Marín and Bravo’s versatile\, expressive\, and sweet voice complement each other perfectly\, creating an acoustic duo that highlights the best of Latin American music. This concert represents a unique opportunity to experience the magic of music in its purest and most emotional form\, demonstrating that sometimes\, less is more in the art of musical interpretation.
URL:https://osculturalfoundation.org/event/solo-dos/
LOCATION:Ovations Night Club\, 2536 Times Boulevard B\, Houston\, TX.\, 77005
CATEGORIES:Concert
ATTACH;FMTTYPE=image/jpeg:https://osculturalfoundation.org/wp-content/uploads/2024/10/Solo-Dos.jpg
END:VEVENT
END:VCALENDAR