BEGIN:VCALENDAR
VERSION:2.0
PRODID:-//One Sample Cultural Foundation - ECPv6.15.10//NONSGML v1.0//EN
CALSCALE:GREGORIAN
METHOD:PUBLISH
X-WR-CALNAME:One Sample Cultural Foundation
X-ORIGINAL-URL:https://osculturalfoundation.org
X-WR-CALDESC:Events for One Sample Cultural Foundation
REFRESH-INTERVAL;VALUE=DURATION:PT1H
X-Robots-Tag:noindex
X-PUBLISHED-TTL:PT1H
BEGIN:VTIMEZONE
TZID:America/Chicago
BEGIN:DAYLIGHT
TZOFFSETFROM:-0600
TZOFFSETTO:-0500
TZNAME:CDT
DTSTART:20240310T080000
END:DAYLIGHT
BEGIN:STANDARD
TZOFFSETFROM:-0500
TZOFFSETTO:-0600
TZNAME:CST
DTSTART:20241103T070000
END:STANDARD
BEGIN:DAYLIGHT
TZOFFSETFROM:-0600
TZOFFSETTO:-0500
TZNAME:CDT
DTSTART:20250309T080000
END:DAYLIGHT
BEGIN:STANDARD
TZOFFSETFROM:-0500
TZOFFSETTO:-0600
TZNAME:CST
DTSTART:20251102T070000
END:STANDARD
BEGIN:DAYLIGHT
TZOFFSETFROM:-0600
TZOFFSETTO:-0500
TZNAME:CDT
DTSTART:20260308T080000
END:DAYLIGHT
BEGIN:STANDARD
TZOFFSETFROM:-0500
TZOFFSETTO:-0600
TZNAME:CST
DTSTART:20261101T070000
END:STANDARD
END:VTIMEZONE
BEGIN:VEVENT
DTSTART;TZID=America/Chicago:20250220T193000
DTEND;TZID=America/Chicago:20250220T210000
DTSTAMP:20260423T131349
CREATED:20250124T210630Z
LAST-MODIFIED:20250124T211245Z
UID:607-1740079800-1740085200@osculturalfoundation.org
SUMMARY:Ethnography of Afro-Venezuelan Music
DESCRIPTION:Ethnography of Afro-Venezuelan Music\nEthnography of Afro-Venezuelan Music is a multidisciplinary educational conference that explores the expression of the rich cultural traditions of African culture and European religious practices in Venezuela\, particularly focusing on how music serves as a medium for spiritual\, social\, and cultural expression. It differentiates Afro-Venezuelan music from the broader Afro-Latin music scene in social and religious terms and disseminates the elements that converge in the socio-historical construction of the Afro-Venezuelan vision and its impact on the Venezuelan colonial context. \nThe project\, which includes videos\, music\, and dance\, aims to strengthen ties between African American and Venezuelan communities and promote a dynamic cultural exchange. This educational-cultural activity is free for the general public. \n“Ethnography of Afro-Venezuelan Music is funded in part by the City of Houston through Houston Arts Alliance.” \nDate: 02/20/2025 \nTime: 7.30 p.m. \nDuration: 90 min \nPublic: General \nPlace: MATCH. Midtown Arts and Theater Center Houston \nAddress: 3400 Main St\, Houston\, TX 77002 \nTicket: free \nNote: Get your free ticket here \nLEARN MORE ABOUT OUR PROGRAMS  \n  \n 
URL:https://osculturalfoundation.org/event/ethnography-of-afro-venezuelan-music/
LOCATION:Match\, 3400 Main Street\, Houston\, TX.\, 77002
CATEGORIES:Conference
ATTACH;FMTTYPE=image/png:https://osculturalfoundation.org/wp-content/uploads/2025/01/Ethnography.png
END:VEVENT
END:VCALENDAR